BEGIN:VCALENDAR
VERSION:2.0
PRODID:-//Männerchor Keramik Laufen - ECPv6.2.9//NONSGML v1.0//EN
CALSCALE:GREGORIAN
METHOD:PUBLISH
X-WR-CALNAME:Männerchor Keramik Laufen
X-ORIGINAL-URL:https://www.mckl.ch
X-WR-CALDESC:Veranstaltungen für Männerchor Keramik Laufen
REFRESH-INTERVAL;VALUE=DURATION:PT1H
X-Robots-Tag:noindex
X-PUBLISHED-TTL:PT1H
BEGIN:VTIMEZONE
TZID:Europe/Zurich
BEGIN:DAYLIGHT
TZOFFSETFROM:+0100
TZOFFSETTO:+0200
TZNAME:CEST
DTSTART:20190331T010000
END:DAYLIGHT
BEGIN:STANDARD
TZOFFSETFROM:+0200
TZOFFSETTO:+0100
TZNAME:CET
DTSTART:20191027T010000
END:STANDARD
END:VTIMEZONE
BEGIN:VEVENT
DTSTART;TZID=Europe/Zurich:20190303T170000
DTEND;TZID=Europe/Zurich:20190303T190000
DTSTAMP:20260426T030231
CREATED:20180624T205313Z
LAST-MODIFIED:20181212T091212Z
UID:1123-1551632400-1551639600@www.mckl.ch
SUMMARY:Konzert mit Interkantonalem Frauenchor
DESCRIPTION:Der rund zwanzigköpfige Interkantonale Frauenchor besteht aus Sängerinnen der ganzen Schweiz. Unter dem Motto „Klingende Heimaten“ wird ein breitgefächertes Programm präsentiert\, unter anderem mit Neukompositionen und Schweizer Volksmusik. Leitung: Diego Ceruti und Marko Skorin. \n\n  \n\n\nDer Männerchor Keramik Laufen AG eröffnet das Konzert\nanschliessend wird der interkantonale  Frauenchor seine Lieder vortragen.\nAm Schluss treten die beiden Chöre zusammen auf.
URL:https://www.mckl.ch/anlass/konzert-mit-interkantonalem-maedels-chor/
LOCATION:Evangelisch-Reformierte Kirche Laufen\, Schützenweg 11\, Laufen\, 4242
ORGANIZER;CN="M%C3%A4nnerchor der Keramik Laufen AG":MAILTO:urs_kurth@bluewin.ch
END:VEVENT
END:VCALENDAR