BEGIN:VCALENDAR
VERSION:2.0
PRODID:-//Männerchor Keramik Laufen - ECPv6.2.9//NONSGML v1.0//EN
CALSCALE:GREGORIAN
METHOD:PUBLISH
X-WR-CALNAME:Männerchor Keramik Laufen
X-ORIGINAL-URL:https://www.mckl.ch
X-WR-CALDESC:Veranstaltungen für Männerchor Keramik Laufen
REFRESH-INTERVAL;VALUE=DURATION:PT1H
X-Robots-Tag:noindex
X-PUBLISHED-TTL:PT1H
BEGIN:VTIMEZONE
TZID:Europe/Zurich
BEGIN:DAYLIGHT
TZOFFSETFROM:+0100
TZOFFSETTO:+0200
TZNAME:CEST
DTSTART:20190331T010000
END:DAYLIGHT
BEGIN:STANDARD
TZOFFSETFROM:+0200
TZOFFSETTO:+0100
TZNAME:CET
DTSTART:20191027T010000
END:STANDARD
END:VTIMEZONE
BEGIN:VEVENT
DTSTART;TZID=Europe/Zurich:20190520T150000
DTEND;TZID=Europe/Zurich:20190520T170000
DTSTAMP:20260425T233701
CREATED:20190304T104528Z
LAST-MODIFIED:20190304T104528Z
UID:1332-1558364400-1558371600@www.mckl.ch
SUMMARY:Singen im Seniorenzentrum Rosengarten Laufen
DESCRIPTION:In Uniform
URL:https://www.mckl.ch/anlass/singen-im-seniorenzentrum-rosengarten-laufen/
LOCATION:Seniorenzentrum „Rosengarten“\, Laufen
END:VEVENT
END:VCALENDAR