BEGIN:VCALENDAR
VERSION:2.0
PRODID:-//Männerchor Keramik Laufen - ECPv6.2.9//NONSGML v1.0//EN
CALSCALE:GREGORIAN
METHOD:PUBLISH
X-WR-CALNAME:Männerchor Keramik Laufen
X-ORIGINAL-URL:https://www.mckl.ch
X-WR-CALDESC:Veranstaltungen für Männerchor Keramik Laufen
REFRESH-INTERVAL;VALUE=DURATION:PT1H
X-Robots-Tag:noindex
X-PUBLISHED-TTL:PT1H
BEGIN:VTIMEZONE
TZID:Europe/Zurich
BEGIN:DAYLIGHT
TZOFFSETFROM:+0100
TZOFFSETTO:+0200
TZNAME:CEST
DTSTART:20190331T010000
END:DAYLIGHT
BEGIN:STANDARD
TZOFFSETFROM:+0200
TZOFFSETTO:+0100
TZNAME:CET
DTSTART:20191027T010000
END:STANDARD
END:VTIMEZONE
BEGIN:VEVENT
DTSTART;TZID=Europe/Zurich:20190627T183000
DTEND;TZID=Europe/Zurich:20190814T193000
DTSTAMP:20260425T181857
CREATED:20180624T215820Z
LAST-MODIFIED:20190629T165114Z
UID:1152-1561660200-1565811000@www.mckl.ch
SUMMARY:Wir sind in den Sommerferien
DESCRIPTION:Der Chor macht Sommerpause. \nDie Singproben beginnen wir wieder am Donnerstag\, 15. August 2019 \nWir wünschen schöne und erholsame Sommerferien.
URL:https://www.mckl.ch/anlass/wir-sind-in-den-sommerferien/
END:VEVENT
END:VCALENDAR