BEGIN:VCALENDAR
VERSION:2.0
PRODID:-//Männerchor Keramik Laufen - ECPv6.2.9//NONSGML v1.0//EN
CALSCALE:GREGORIAN
METHOD:PUBLISH
X-ORIGINAL-URL:https://www.mckl.ch
X-WR-CALDESC:Veranstaltungen für Männerchor Keramik Laufen
REFRESH-INTERVAL;VALUE=DURATION:PT1H
X-Robots-Tag:noindex
X-PUBLISHED-TTL:PT1H
BEGIN:VTIMEZONE
TZID:Europe/Zurich
BEGIN:DAYLIGHT
TZOFFSETFROM:+0100
TZOFFSETTO:+0200
TZNAME:CEST
DTSTART:20190331T010000
END:DAYLIGHT
BEGIN:STANDARD
TZOFFSETFROM:+0200
TZOFFSETTO:+0100
TZNAME:CET
DTSTART:20191027T010000
END:STANDARD
END:VTIMEZONE
BEGIN:VEVENT
DTSTART;TZID=Europe/Zurich:20191124T170000
DTEND;TZID=Europe/Zurich:20191124T190000
DTSTAMP:20260425T134058
CREATED:20190819T150230Z
LAST-MODIFIED:20191104T182111Z
UID:1408-1574614800-1574622000@www.mckl.ch
SUMMARY:Gemeinsame Liedervorträge mit Jodlerclub Jurarösli Liesberg
DESCRIPTION:Sonntag\, 24. Nov. 2019 \nWo: röm. kath. Kirche Breitenbach \nZeit: 1700h
URL:https://www.mckl.ch/anlass/singen-mit-dem-jodlerclub-juraroesli-liesberg/
LOCATION:Röm. Kath. Kirche Breitenbach\, Breitenbach\, 4226
ORGANIZER;CN="M%C3%A4nnerchor der Keramik Laufen AG":MAILTO:urs_kurth@bluewin.ch
END:VEVENT
END:VCALENDAR