BEGIN:VCALENDAR
VERSION:2.0
PRODID:-//Männerchor Keramik Laufen - ECPv6.2.9//NONSGML v1.0//EN
CALSCALE:GREGORIAN
METHOD:PUBLISH
X-ORIGINAL-URL:https://www.mckl.ch
X-WR-CALDESC:Veranstaltungen für Männerchor Keramik Laufen
REFRESH-INTERVAL;VALUE=DURATION:PT1H
X-Robots-Tag:noindex
X-PUBLISHED-TTL:PT1H
BEGIN:VTIMEZONE
TZID:Europe/Zurich
BEGIN:DAYLIGHT
TZOFFSETFROM:+0100
TZOFFSETTO:+0200
TZNAME:CEST
DTSTART:20200329T010000
END:DAYLIGHT
BEGIN:STANDARD
TZOFFSETFROM:+0200
TZOFFSETTO:+0100
TZNAME:CET
DTSTART:20201025T010000
END:STANDARD
END:VTIMEZONE
BEGIN:VEVENT
DTSTART;TZID=Europe/Zurich:20200715T080000
DTEND;TZID=Europe/Zurich:20200715T170000
DTSTAMP:20260424T225518
CREATED:20200131T144500Z
LAST-MODIFIED:20200423T194419Z
UID:1508-1594800000-1594832400@www.mckl.ch
SUMMARY:Tagesausflug mit Wirtechor\, VERSCHOBEN AUF HERBST 2020
DESCRIPTION:WURDE WEGEN DER CORONAVIRUS-PANDEMIE ABGESAGT RESP. AUF DEN HERBST 2020 VERSCHOBEN. \nProgramm folgt
URL:https://www.mckl.ch/anlass/tagesausflug-mit-wirtechor/
END:VEVENT
END:VCALENDAR