BEGIN:VCALENDAR
VERSION:2.0
PRODID:-//Männerchor Keramik Laufen - ECPv6.2.9//NONSGML v1.0//EN
CALSCALE:GREGORIAN
METHOD:PUBLISH
X-ORIGINAL-URL:https://www.mckl.ch
X-WR-CALDESC:Veranstaltungen für Männerchor Keramik Laufen
REFRESH-INTERVAL;VALUE=DURATION:PT1H
X-Robots-Tag:noindex
X-PUBLISHED-TTL:PT1H
BEGIN:VTIMEZONE
TZID:Europe/Zurich
BEGIN:DAYLIGHT
TZOFFSETFROM:+0100
TZOFFSETTO:+0200
TZNAME:CEST
DTSTART:20200329T010000
END:DAYLIGHT
BEGIN:STANDARD
TZOFFSETFROM:+0200
TZOFFSETTO:+0100
TZNAME:CET
DTSTART:20201025T010000
END:STANDARD
END:VTIMEZONE
BEGIN:VEVENT
DTSTART;TZID=Europe/Zurich:20200913T110000
DTEND;TZID=Europe/Zurich:20200913T170000
DTSTAMP:20260424T185300
CREATED:20180624T210339Z
LAST-MODIFIED:20200423T194218Z
UID:1127-1599994800-1600016400@www.mckl.ch
SUMMARY:Singen anl. Stubete im Rest. des Musikautomatenmuseum in Seewen SO\, FINDET NICHT STATT
DESCRIPTION:DER ANLASS WURDE WEGEN DER CORONAVIRUS-PANDEMIE ABGESAGT. \nmit Uniform \n 
URL:https://www.mckl.ch/anlass/singen-anl-stubete-in-seewen-so/
LOCATION:Museum für Musikautomaten\, Seewen\, SO\, 4206\, Schweiz
END:VEVENT
END:VCALENDAR