BEGIN:VCALENDAR
VERSION:2.0
PRODID:-//Männerchor Keramik Laufen - ECPv6.2.9//NONSGML v1.0//EN
CALSCALE:GREGORIAN
METHOD:PUBLISH
X-WR-CALNAME:Männerchor Keramik Laufen
X-ORIGINAL-URL:https://www.mckl.ch
X-WR-CALDESC:Veranstaltungen für Männerchor Keramik Laufen
REFRESH-INTERVAL;VALUE=DURATION:PT1H
X-Robots-Tag:noindex
X-PUBLISHED-TTL:PT1H
BEGIN:VTIMEZONE
TZID:Europe/Zurich
BEGIN:DAYLIGHT
TZOFFSETFROM:+0100
TZOFFSETTO:+0200
TZNAME:CEST
DTSTART:20230326T010000
END:DAYLIGHT
BEGIN:STANDARD
TZOFFSETFROM:+0200
TZOFFSETTO:+0100
TZNAME:CET
DTSTART:20231029T010000
END:STANDARD
END:VTIMEZONE
BEGIN:VEVENT
DTSTART;TZID=Europe/Zurich:20231222T170000
DTEND;TZID=Europe/Zurich:20231222T190000
DTSTAMP:20260421T192856
CREATED:20190819T150409Z
LAST-MODIFIED:20231103T183253Z
UID:1410-1703264400-1703271600@www.mckl.ch
SUMMARY:Singen zum Advent im Birscenter Laufen (Einkaufszentrum beim Bhf.)
DESCRIPTION:Freitag\, 22. Dezember 2023 \nUniform komplett
URL:https://www.mckl.ch/anlass/adventsingen-im-birscenter-laufen/
LOCATION:Birscenter „Einkaufscenter“\, Laufen
END:VEVENT
END:VCALENDAR