BEGIN:VCALENDAR
VERSION:2.0
PRODID:-//Männerchor Keramik Laufen - ECPv6.2.9//NONSGML v1.0//EN
CALSCALE:GREGORIAN
METHOD:PUBLISH
X-WR-CALNAME:Männerchor Keramik Laufen
X-ORIGINAL-URL:https://www.mckl.ch
X-WR-CALDESC:Veranstaltungen für Männerchor Keramik Laufen
REFRESH-INTERVAL;VALUE=DURATION:PT1H
X-Robots-Tag:noindex
X-PUBLISHED-TTL:PT1H
BEGIN:VTIMEZONE
TZID:Europe/Zurich
BEGIN:DAYLIGHT
TZOFFSETFROM:+0100
TZOFFSETTO:+0200
TZNAME:CEST
DTSTART:20240331T010000
END:DAYLIGHT
BEGIN:STANDARD
TZOFFSETFROM:+0200
TZOFFSETTO:+0100
TZNAME:CET
DTSTART:20241027T010000
END:STANDARD
END:VTIMEZONE
BEGIN:VEVENT
DTSTART;TZID=Europe/Zurich:20240412T080000
DTEND;TZID=Europe/Zurich:20240412T170000
DTSTAMP:20260421T124257
CREATED:20240114T101639Z
LAST-MODIFIED:20240219T101259Z
UID:3593-1712908800-1712941200@www.mckl.ch
SUMMARY:Konzert mit Gemischter Chor Fehren in der Kirche Fehren
DESCRIPTION:Gemeinsames Singen zum 85. Geburtstag von Myron Ackermann\,DIRIGENT des MÄNNERCHOR KERAMIK LAUFEN und des GEMISCHTEN CHOR FEHREN. \nIn Uniform \nProgramm folgt.
URL:https://www.mckl.ch/anlass/konzert-mit-gemischter-chor-fehren-in-der-kirche-fehren/
LOCATION:Kirche in Fehren SO
END:VEVENT
END:VCALENDAR