BEGIN:VCALENDAR
VERSION:2.0
PRODID:-//Männerchor Keramik Laufen - ECPv6.2.9//NONSGML v1.0//EN
CALSCALE:GREGORIAN
METHOD:PUBLISH
X-ORIGINAL-URL:https://www.mckl.ch
X-WR-CALDESC:Veranstaltungen für Männerchor Keramik Laufen
REFRESH-INTERVAL;VALUE=DURATION:PT1H
X-Robots-Tag:noindex
X-PUBLISHED-TTL:PT1H
BEGIN:VTIMEZONE
TZID:Europe/Zurich
BEGIN:DAYLIGHT
TZOFFSETFROM:+0100
TZOFFSETTO:+0200
TZNAME:CEST
DTSTART:20240331T010000
END:DAYLIGHT
BEGIN:STANDARD
TZOFFSETFROM:+0200
TZOFFSETTO:+0100
TZNAME:CET
DTSTART:20241027T010000
END:STANDARD
END:VTIMEZONE
BEGIN:VEVENT
DTSTART;TZID=Europe/Zurich:20240527T140000
DTEND;TZID=Europe/Zurich:20240527T170000
DTSTAMP:20260421T084806
CREATED:20240103T091849Z
LAST-MODIFIED:20240103T091923Z
UID:3558-1716818400-1716829200@www.mckl.ch
SUMMARY:Schweizerisches Wirtechor-Treffen in Basel-Stadt
DESCRIPTION:Am Montag\, 27. Mai 2024\, ab 1400h singen die Wirtechöre in der Kirche St. Clara in Basel \nWirtechor Zug / www.wirtechorzug.ch/ \nWirtechor Bremgarten / www.wirtechorbremgarten.ch \nWirtechor Luzern /  www.wirtechorluzern.ch/ \nWirtechor beider Basel / www.wirtechor.ch/
URL:https://www.mckl.ch/anlass/schweizerisches-wirtechor-treffen-in-basel-stadt/
LOCATION:Kirche St. Clara\, Claraplatz 6\, Basel\, 4058
END:VEVENT
END:VCALENDAR