BEGIN:VCALENDAR
VERSION:2.0
PRODID:-//Männerchor Keramik Laufen - ECPv6.2.9//NONSGML v1.0//EN
CALSCALE:GREGORIAN
METHOD:PUBLISH
X-WR-CALNAME:Männerchor Keramik Laufen
X-ORIGINAL-URL:https://www.mckl.ch
X-WR-CALDESC:Veranstaltungen für Männerchor Keramik Laufen
REFRESH-INTERVAL;VALUE=DURATION:PT1H
X-Robots-Tag:noindex
X-PUBLISHED-TTL:PT1H
BEGIN:VTIMEZONE
TZID:Europe/Zurich
BEGIN:DAYLIGHT
TZOFFSETFROM:+0100
TZOFFSETTO:+0200
TZNAME:CEST
DTSTART:20240331T010000
END:DAYLIGHT
BEGIN:STANDARD
TZOFFSETFROM:+0200
TZOFFSETTO:+0100
TZNAME:CET
DTSTART:20241027T010000
END:STANDARD
END:VTIMEZONE
BEGIN:VEVENT
DTSTART;TZID=Europe/Zurich:20241116T140000
DTEND;TZID=Europe/Zurich:20241116T170000
DTSTAMP:20260420T225551
CREATED:20241026T084638Z
LAST-MODIFIED:20241026T084826Z
UID:4028-1731765600-1731776400@www.mckl.ch
SUMMARY:Singen im AZ Zäni Breitenbach
DESCRIPTION:mit Uniform
URL:https://www.mckl.ch/anlass/singen-im-az-zaeni-breitenbach/
LOCATION:Alterszentrum Zäni Breitenbach\, Breitnebach\, 4226
END:VEVENT
END:VCALENDAR