BEGIN:VCALENDAR
VERSION:2.0
PRODID:-//Männerchor Keramik Laufen - ECPv6.2.9//NONSGML v1.0//EN
CALSCALE:GREGORIAN
METHOD:PUBLISH
X-ORIGINAL-URL:https://www.mckl.ch
X-WR-CALDESC:Veranstaltungen für Männerchor Keramik Laufen
REFRESH-INTERVAL;VALUE=DURATION:PT1H
X-Robots-Tag:noindex
X-PUBLISHED-TTL:PT1H
BEGIN:VTIMEZONE
TZID:Europe/Zurich
BEGIN:DAYLIGHT
TZOFFSETFROM:+0100
TZOFFSETTO:+0200
TZNAME:CEST
DTSTART:20240331T010000
END:DAYLIGHT
BEGIN:STANDARD
TZOFFSETFROM:+0200
TZOFFSETTO:+0100
TZNAME:CET
DTSTART:20241027T010000
END:STANDARD
END:VTIMEZONE
BEGIN:VEVENT
DTSTART;TZID=Europe/Zurich:20241122T100000
DTEND;TZID=Europe/Zurich:20241122T170000
DTSTAMP:20260420T225818
CREATED:20241026T085015Z
LAST-MODIFIED:20241026T085015Z
UID:4031-1732269600-1732294800@www.mckl.ch
SUMMARY:GV im Rest. Musikautomaten-Museum Seewen
DESCRIPTION:
URL:https://www.mckl.ch/anlass/gv-im-rest-musikautomaten-museum-seewen/
LOCATION:Musikautomatenmuseum Seewen SO\, Bollhübel 1\, Seewen\, Solothurn\, 4206\, Schweiz
END:VEVENT
END:VCALENDAR