BEGIN:VCALENDAR
VERSION:2.0
PRODID:-//Männerchor Keramik Laufen - ECPv6.2.9//NONSGML v1.0//EN
CALSCALE:GREGORIAN
METHOD:PUBLISH
X-ORIGINAL-URL:https://www.mckl.ch
X-WR-CALDESC:Veranstaltungen für Männerchor Keramik Laufen
REFRESH-INTERVAL;VALUE=DURATION:PT1H
X-Robots-Tag:noindex
X-PUBLISHED-TTL:PT1H
BEGIN:VTIMEZONE
TZID:Europe/Zurich
BEGIN:DAYLIGHT
TZOFFSETFROM:+0100
TZOFFSETTO:+0200
TZNAME:CEST
DTSTART:20240331T010000
END:DAYLIGHT
BEGIN:STANDARD
TZOFFSETFROM:+0200
TZOFFSETTO:+0100
TZNAME:CET
DTSTART:20241027T010000
END:STANDARD
END:VTIMEZONE
BEGIN:VEVENT
DTSTART;TZID=Europe/Zurich:20241129T170000
DTEND;TZID=Europe/Zurich:20241129T190000
DTSTAMP:20260420T212317
CREATED:20241026T085317Z
LAST-MODIFIED:20241026T085317Z
UID:4035-1732899600-1732906800@www.mckl.ch
SUMMARY:Singen zum Advent im Birscenter Laufen
DESCRIPTION:mit Uniform
URL:https://www.mckl.ch/anlass/singen-zum-advent-im-birscenter-laufen/
LOCATION:Birscenter „Einkaufscenter“\, Laufen
END:VEVENT
END:VCALENDAR