BEGIN:VCALENDAR
VERSION:2.0
PRODID:-//Männerchor Keramik Laufen - ECPv6.2.9//NONSGML v1.0//EN
CALSCALE:GREGORIAN
METHOD:PUBLISH
X-ORIGINAL-URL:https://www.mckl.ch
X-WR-CALDESC:Veranstaltungen für Männerchor Keramik Laufen
REFRESH-INTERVAL;VALUE=DURATION:PT1H
X-Robots-Tag:noindex
X-PUBLISHED-TTL:PT1H
BEGIN:VTIMEZONE
TZID:Europe/Zurich
BEGIN:DAYLIGHT
TZOFFSETFROM:+0100
TZOFFSETTO:+0200
TZNAME:CEST
DTSTART:20250330T010000
END:DAYLIGHT
BEGIN:STANDARD
TZOFFSETFROM:+0200
TZOFFSETTO:+0100
TZNAME:CET
DTSTART:20251026T010000
END:STANDARD
END:VTIMEZONE
BEGIN:VEVENT
DTSTART;TZID=Europe/Zurich:20250523T150000
DTEND;TZID=Europe/Zurich:20250523T200000
DTSTAMP:20260420T122103
CREATED:20250309T111916Z
LAST-MODIFIED:20250520T192447Z
UID:4135-1748012400-1748030400@www.mckl.ch
SUMMARY:Unterhaltungsnachmittag mit Essen und Trinken im Rest. Loki Laufen
DESCRIPTION:Wir singen ein paar Lieder in Uniform \nDie Wirtin Yadi und ihr Team sind für das Essen (Grilladen) und Getränke besorgt.
URL:https://www.mckl.ch/anlass/unterhaltungsnachmittag-mit-essen-und-trinken-im-rest-loki-laufen/
LOCATION:Restaurant LOKI\, Laufen\, 4242
END:VEVENT
END:VCALENDAR