BEGIN:VCALENDAR
VERSION:2.0
PRODID:-//Männerchor Keramik Laufen - ECPv6.2.9//NONSGML v1.0//EN
CALSCALE:GREGORIAN
METHOD:PUBLISH
X-WR-CALNAME:Männerchor Keramik Laufen
X-ORIGINAL-URL:https://www.mckl.ch
X-WR-CALDESC:Veranstaltungen für Männerchor Keramik Laufen
REFRESH-INTERVAL;VALUE=DURATION:PT1H
X-Robots-Tag:noindex
X-PUBLISHED-TTL:PT1H
BEGIN:VTIMEZONE
TZID:Europe/Zurich
BEGIN:DAYLIGHT
TZOFFSETFROM:+0100
TZOFFSETTO:+0200
TZNAME:CEST
DTSTART:20260329T010000
END:DAYLIGHT
BEGIN:STANDARD
TZOFFSETFROM:+0200
TZOFFSETTO:+0100
TZNAME:CET
DTSTART:20261025T010000
END:STANDARD
END:VTIMEZONE
BEGIN:VEVENT
DTSTART;TZID=Europe/Zurich:20260108T173000
DTEND;TZID=Europe/Zurich:20260108T193000
DTSTAMP:20260419T201756
CREATED:20251209T095944Z
LAST-MODIFIED:20251212T080942Z
UID:4216-1767893400-1767900600@www.mckl.ch
SUMMARY:Probebeginn im 2026
DESCRIPTION:Wir beginnen unsere Singproben im 2026 wie üblich um 17.45h bis 19.45h
URL:https://www.mckl.ch/anlass/probebeginn-im-2026/
END:VEVENT
END:VCALENDAR