BEGIN:VCALENDAR
VERSION:2.0
PRODID:-//Männerchor Keramik Laufen - ECPv6.2.9//NONSGML v1.0//EN
CALSCALE:GREGORIAN
METHOD:PUBLISH
X-WR-CALNAME:Männerchor Keramik Laufen
X-ORIGINAL-URL:https://www.mckl.ch
X-WR-CALDESC:Veranstaltungen für Männerchor Keramik Laufen
REFRESH-INTERVAL;VALUE=DURATION:PT1H
X-Robots-Tag:noindex
X-PUBLISHED-TTL:PT1H
BEGIN:VTIMEZONE
TZID:Europe/Zurich
BEGIN:DAYLIGHT
TZOFFSETFROM:+0100
TZOFFSETTO:+0200
TZNAME:CEST
DTSTART:20260329T010000
END:DAYLIGHT
BEGIN:STANDARD
TZOFFSETFROM:+0200
TZOFFSETTO:+0100
TZNAME:CET
DTSTART:20261025T010000
END:STANDARD
END:VTIMEZONE
BEGIN:VEVENT
DTSTART;TZID=Europe/Zurich:20260116T133000
DTEND;TZID=Europe/Zurich:20260116T150000
DTSTAMP:20260419T202441
CREATED:20251212T092829Z
LAST-MODIFIED:20251215T105502Z
UID:4236-1768570200-1768575600@www.mckl.ch
SUMMARY:Singen zur Trauerfeier für Urs Kurth\, sel. Präsident des MCKL
DESCRIPTION:Die Abdankung findet in der St. Anna Kirche in Röschenz statt.
URL:https://www.mckl.ch/anlass/singen-zur-abdankung-fuer-urs-kurth-sel-praesident-des-mckl/
LOCATION:Kirche Röschenz\, Röschenz\, 4244\, Schweiz
END:VEVENT
END:VCALENDAR