BEGIN:VCALENDAR
VERSION:2.0
PRODID:-//Männerchor Keramik Laufen - ECPv6.2.9//NONSGML v1.0//EN
CALSCALE:GREGORIAN
METHOD:PUBLISH
X-WR-CALNAME:Männerchor Keramik Laufen
X-ORIGINAL-URL:https://www.mckl.ch
X-WR-CALDESC:Veranstaltungen für Männerchor Keramik Laufen
REFRESH-INTERVAL;VALUE=DURATION:PT1H
X-Robots-Tag:noindex
X-PUBLISHED-TTL:PT1H
BEGIN:VTIMEZONE
TZID:Europe/Zurich
BEGIN:DAYLIGHT
TZOFFSETFROM:+0100
TZOFFSETTO:+0200
TZNAME:CEST
DTSTART:20180325T010000
END:DAYLIGHT
BEGIN:STANDARD
TZOFFSETFROM:+0200
TZOFFSETTO:+0100
TZNAME:CET
DTSTART:20181028T010000
END:STANDARD
END:VTIMEZONE
BEGIN:VEVENT
DTSTART;TZID=Europe/Zurich:20181220T173000
DTEND;TZID=Europe/Zurich:20181220T193000
DTSTAMP:20260426T061544
CREATED:20181214T204738Z
LAST-MODIFIED:20181214T204810Z
UID:1242-1545327000-1545334200@www.mckl.ch
SUMMARY:Keine Singprobe
DESCRIPTION:Am Donnerstag\, 20.12.2018 fällt die Singprobe aus.
URL:https://www.mckl.ch/anlass/keine-singprobe/
END:VEVENT
BEGIN:VEVENT
DTSTART;TZID=Europe/Zurich:20181221T170000
DTEND;TZID=Europe/Zurich:20181221T190000
DTSTAMP:20260426T061544
CREATED:20180921T172937Z
LAST-MODIFIED:20181214T204253Z
UID:1186-1545411600-1545418800@www.mckl.ch
SUMMARY:Singen im Birscenter
DESCRIPTION:Wir singen Weihnachtslieder im Einkaufcenter Laufen \nin Uniform\, Besammlung 1615h im Center
URL:https://www.mckl.ch/anlass/singen-im-birscenter/
LOCATION:Birs Center Laufen\, Bahnhofstrasse\, Laufen\, 4242
END:VEVENT
END:VCALENDAR