BEGIN:VCALENDAR
VERSION:2.0
PRODID:-//Männerchor Keramik Laufen - ECPv6.2.9//NONSGML v1.0//EN
CALSCALE:GREGORIAN
METHOD:PUBLISH
X-WR-CALNAME:Männerchor Keramik Laufen
X-ORIGINAL-URL:https://www.mckl.ch
X-WR-CALDESC:Veranstaltungen für Männerchor Keramik Laufen
REFRESH-INTERVAL;VALUE=DURATION:PT1H
X-Robots-Tag:noindex
X-PUBLISHED-TTL:PT1H
BEGIN:VTIMEZONE
TZID:Europe/Zurich
BEGIN:DAYLIGHT
TZOFFSETFROM:+0100
TZOFFSETTO:+0200
TZNAME:CEST
DTSTART:20200329T010000
END:DAYLIGHT
BEGIN:STANDARD
TZOFFSETFROM:+0200
TZOFFSETTO:+0100
TZNAME:CET
DTSTART:20201025T010000
END:STANDARD
END:VTIMEZONE
BEGIN:VEVENT
DTSTART;TZID=Europe/Zurich:20200913T110000
DTEND;TZID=Europe/Zurich:20200913T170000
DTSTAMP:20260424T170453
CREATED:20180624T210339Z
LAST-MODIFIED:20200423T194218Z
UID:1127-1599994800-1600016400@www.mckl.ch
SUMMARY:Singen anl. Stubete im Rest. des Musikautomatenmuseum in Seewen SO\, FINDET NICHT STATT
DESCRIPTION:DER ANLASS WURDE WEGEN DER CORONAVIRUS-PANDEMIE ABGESAGT. \nmit Uniform \n 
URL:https://www.mckl.ch/anlass/singen-anl-stubete-in-seewen-so/
LOCATION:Museum für Musikautomaten\, Seewen\, SO\, 4206\, Schweiz
END:VEVENT
BEGIN:VEVENT
DTSTART;TZID=Europe/Zurich:20200925T160000
DTEND;TZID=Europe/Zurich:20200925T190000
DTSTAMP:20260424T170453
CREATED:20200131T145033Z
LAST-MODIFIED:20200423T194044Z
UID:1513-1601049600-1601060400@www.mckl.ch
SUMMARY:Entenrennen auf der Birs in Laufen\, FINDET NICHT STATT
DESCRIPTION:WURDE WEGEN DER CORONAVIRUS-PANDEMIE ABGESAGT. \nvom Wasserfall bis Eishalle \norganisiert vom Männerchor Keramik Laufen AG und dem Turnverein Laufen zum 725 Jahre Jubiläum der Stadt Laufen
URL:https://www.mckl.ch/anlass/entenrennen-auf-der-birs-in-laufen/
END:VEVENT
BEGIN:VEVENT
DTSTART;TZID=Europe/Zurich:20200926T140000
DTEND;TZID=Europe/Zurich:20200926T220000
DTSTAMP:20260424T170453
CREATED:20190506T055402Z
LAST-MODIFIED:20200423T193905Z
UID:1376-1601128800-1601157600@www.mckl.ch
SUMMARY:725 Jahre Stadt Laufen\, FINDET NICHT STATT
DESCRIPTION:DER ANLASS WURDE WEGEN DER CORONAVIRUS-PANDEMIE ABGESAGT \nWir organisieren zusammen mit dem Turnverein Laufen ein Seemannsfest mit Musik\, Gesang\, Bühnenaufführungen\, Gastverein und Einbezug des Publikums zum Mitsingen. \nevtl. Verschiebedatum: Sonntag\, 27. Sept. 2020
URL:https://www.mckl.ch/anlass/725-jahre-stadt-laufen/
LOCATION:Rathausplatz im Stedtli Laufen\, Laufen\, BL\, 4242
ORGANIZER;CN="M%C3%A4nnerchor der Keramik Laufen AG":MAILTO:urs_kurth@bluewin.ch
END:VEVENT
END:VCALENDAR