BEGIN:VCALENDAR
VERSION:2.0
PRODID:-//Männerchor Keramik Laufen - ECPv6.2.9//NONSGML v1.0//EN
CALSCALE:GREGORIAN
METHOD:PUBLISH
X-WR-CALNAME:Männerchor Keramik Laufen
X-ORIGINAL-URL:https://www.mckl.ch
X-WR-CALDESC:Veranstaltungen für Männerchor Keramik Laufen
REFRESH-INTERVAL;VALUE=DURATION:PT1H
X-Robots-Tag:noindex
X-PUBLISHED-TTL:PT1H
BEGIN:VTIMEZONE
TZID:Europe/Zurich
BEGIN:DAYLIGHT
TZOFFSETFROM:+0100
TZOFFSETTO:+0200
TZNAME:CEST
DTSTART:20220327T010000
END:DAYLIGHT
BEGIN:STANDARD
TZOFFSETFROM:+0200
TZOFFSETTO:+0100
TZNAME:CET
DTSTART:20221030T010000
END:STANDARD
END:VTIMEZONE
BEGIN:VEVENT
DTSTART;TZID=Europe/Zurich:20221118T080000
DTEND;TZID=Europe/Zurich:20221118T170000
DTSTAMP:20260422T181128
CREATED:20221024T125234Z
LAST-MODIFIED:20221024T125239Z
UID:2777-1668758400-1668790800@www.mckl.ch
SUMMARY:Tagesausflug mit GV und Partnerinnen
DESCRIPTION:Programm: \n0800h Abfahrt mit Bus beim Parkplatz des Verwaltungsgebäude der Keramik Laufen. \nMuseumsbesuch in Porrentruy \nMittagessen und GV im Rest. Petite Gilberte in Courgenay JU \nca. 1500h Heimfahrt
URL:https://www.mckl.ch/anlass/tagesausflug-mit-gv-und-partnerinnen/
END:VEVENT
END:VCALENDAR