BEGIN:VCALENDAR
VERSION:2.0
PRODID:-//Männerchor Keramik Laufen - ECPv6.2.9//NONSGML v1.0//EN
CALSCALE:GREGORIAN
METHOD:PUBLISH
X-ORIGINAL-URL:https://www.mckl.ch
X-WR-CALDESC:Veranstaltungen für Männerchor Keramik Laufen
REFRESH-INTERVAL;VALUE=DURATION:PT1H
X-Robots-Tag:noindex
X-PUBLISHED-TTL:PT1H
BEGIN:VTIMEZONE
TZID:Europe/Zurich
BEGIN:DAYLIGHT
TZOFFSETFROM:+0100
TZOFFSETTO:+0200
TZNAME:CEST
DTSTART:20230326T010000
END:DAYLIGHT
BEGIN:STANDARD
TZOFFSETFROM:+0200
TZOFFSETTO:+0100
TZNAME:CET
DTSTART:20231029T010000
END:STANDARD
END:VTIMEZONE
BEGIN:VEVENT
DTSTART;TZID=Europe/Zurich:20231124T100000
DTEND;TZID=Europe/Zurich:20231124T163000
DTSTAMP:20260421T192645
CREATED:20190819T150039Z
LAST-MODIFIED:20231103T183350Z
UID:1406-1700820000-1700843400@www.mckl.ch
SUMMARY:Generalversammlung mit Lotto des Männerchor
DESCRIPTION:Freitag\, 24.11.2023 im Restaurant des Musikautomatenmuseum in Seewen SO\, bei unserem Sängerkamerad Jürg Hüttemnoser \nmit Partnerinnen und Gäste. \nFahrgelegenheiten:  \nHinfahrt: mit Potauto ab Bhf. Laufen ab 09.04H \nRückfahrt: ab Museum 17.09h mit Bus Nr. 69 bis Herrenmatt umsteigen auf Bus Nr. 111 ab 17.12h \noder mit Privatauto bis Parkplätze Museum \nweitere Details; siehe Einladung unter
URL:https://www.mckl.ch/anlass/nikolausabend-mit-lotto-des-mckl/
LOCATION:Musikautomatenmuseum Seewen SO\, Bollhübel 1\, Seewen\, Solothurn\, 4206\, Schweiz
END:VEVENT
END:VCALENDAR