BEGIN:VCALENDAR
VERSION:2.0
PRODID:-//Männerchor Keramik Laufen - ECPv6.2.9//NONSGML v1.0//EN
CALSCALE:GREGORIAN
METHOD:PUBLISH
X-ORIGINAL-URL:https://www.mckl.ch
X-WR-CALDESC:Veranstaltungen für Männerchor Keramik Laufen
REFRESH-INTERVAL;VALUE=DURATION:PT1H
X-Robots-Tag:noindex
X-PUBLISHED-TTL:PT1H
BEGIN:VTIMEZONE
TZID:Europe/Zurich
BEGIN:DAYLIGHT
TZOFFSETFROM:+0100
TZOFFSETTO:+0200
TZNAME:CEST
DTSTART:20250330T010000
END:DAYLIGHT
BEGIN:STANDARD
TZOFFSETFROM:+0200
TZOFFSETTO:+0100
TZNAME:CET
DTSTART:20251026T010000
END:STANDARD
END:VTIMEZONE
BEGIN:VEVENT
DTSTART;TZID=Europe/Zurich:20250911T090000
DTEND;TZID=Europe/Zurich:20250911T113000
DTSTAMP:20260420T024332
CREATED:20230520T124129Z
LAST-MODIFIED:20250520T192335Z
UID:3272-1757581200-1757590200@www.mckl.ch
SUMMARY:Singen zur hl. Messe in der Kapelle auf Vorbourg
DESCRIPTION:In Uniform \nAb 09.00h Einsingen im Rest. Vorbourg \nAb 10.00h Singen in der Kapelle \nAb 12.00h Mittagessen im Rest. Vorbourg (freiwillig)
URL:https://www.mckl.ch/anlass/singen-zur-hl-messe-in-der-kapelle-auf-vorbourg/
END:VEVENT
END:VCALENDAR