BEGIN:VCALENDAR
VERSION:2.0
PRODID:-//Männerchor Keramik Laufen - ECPv6.2.9//NONSGML v1.0//EN
CALSCALE:GREGORIAN
METHOD:PUBLISH
X-WR-CALNAME:Männerchor Keramik Laufen
X-ORIGINAL-URL:https://www.mckl.ch
X-WR-CALDESC:Veranstaltungen für Männerchor Keramik Laufen
REFRESH-INTERVAL;VALUE=DURATION:PT1H
X-Robots-Tag:noindex
X-PUBLISHED-TTL:PT1H
BEGIN:VTIMEZONE
TZID:Europe/Zurich
BEGIN:DAYLIGHT
TZOFFSETFROM:+0100
TZOFFSETTO:+0200
TZNAME:CEST
DTSTART:20260329T010000
END:DAYLIGHT
BEGIN:STANDARD
TZOFFSETFROM:+0200
TZOFFSETTO:+0100
TZNAME:CET
DTSTART:20261025T010000
END:STANDARD
END:VTIMEZONE
BEGIN:VEVENT
DTSTART;TZID=Europe/Zurich:20260322T103000
DTEND;TZID=Europe/Zurich:20260322T140000
DTSTAMP:20260419T151054
CREATED:20221230T141541Z
LAST-MODIFIED:20251209T095734Z
UID:3062-1774175400-1774188000@www.mckl.ch
SUMMARY:Singen in der Klosterkirche Beinwil SO und Suppentag
DESCRIPTION:In Uniform komplett \n0930h Einsingen vor Ort und 1030h Auftritt \nWir singen in der Kirche zum Wortgottesdienst 10.30h und anschliessend in der Turnhalle zum Suppenessen.
URL:https://www.mckl.ch/anlass/singen-in-der-klosterkirche-beinwil-und-suppentag/
LOCATION:Klosterkirche Beinwil SO\, Kloster 109\, Beinwil\, 4229\, Schweiz
END:VEVENT
END:VCALENDAR